BEGIN:VCALENDAR
VERSION:2.0
PRODID:-//Ottoman &amp; Turkish Studies Association - ECPv6.15.20//NONSGML v1.0//EN
CALSCALE:GREGORIAN
METHOD:PUBLISH
X-WR-CALNAME:Ottoman &amp; Turkish Studies Association
X-ORIGINAL-URL:https://www.ottomanturkishstudiesassociation.org
X-WR-CALDESC:Events for Ottoman &amp; Turkish Studies Association
REFRESH-INTERVAL;VALUE=DURATION:PT1H
X-Robots-Tag:noindex
X-PUBLISHED-TTL:PT1H
BEGIN:VTIMEZONE
TZID:America/New_York
BEGIN:DAYLIGHT
TZOFFSETFROM:-0500
TZOFFSETTO:-0400
TZNAME:EDT
DTSTART:20200308T070000
END:DAYLIGHT
BEGIN:STANDARD
TZOFFSETFROM:-0400
TZOFFSETTO:-0500
TZNAME:EST
DTSTART:20201101T060000
END:STANDARD
BEGIN:DAYLIGHT
TZOFFSETFROM:-0500
TZOFFSETTO:-0400
TZNAME:EDT
DTSTART:20210314T070000
END:DAYLIGHT
BEGIN:STANDARD
TZOFFSETFROM:-0400
TZOFFSETTO:-0500
TZNAME:EST
DTSTART:20211107T060000
END:STANDARD
BEGIN:DAYLIGHT
TZOFFSETFROM:-0500
TZOFFSETTO:-0400
TZNAME:EDT
DTSTART:20220313T070000
END:DAYLIGHT
BEGIN:STANDARD
TZOFFSETFROM:-0400
TZOFFSETTO:-0500
TZNAME:EST
DTSTART:20221106T060000
END:STANDARD
END:VTIMEZONE
BEGIN:VTIMEZONE
TZID:America/Los_Angeles
BEGIN:DAYLIGHT
TZOFFSETFROM:-0800
TZOFFSETTO:-0700
TZNAME:PDT
DTSTART:20200308T100000
END:DAYLIGHT
BEGIN:STANDARD
TZOFFSETFROM:-0700
TZOFFSETTO:-0800
TZNAME:PST
DTSTART:20201101T090000
END:STANDARD
BEGIN:DAYLIGHT
TZOFFSETFROM:-0800
TZOFFSETTO:-0700
TZNAME:PDT
DTSTART:20210314T100000
END:DAYLIGHT
BEGIN:STANDARD
TZOFFSETFROM:-0700
TZOFFSETTO:-0800
TZNAME:PST
DTSTART:20211107T090000
END:STANDARD
BEGIN:DAYLIGHT
TZOFFSETFROM:-0800
TZOFFSETTO:-0700
TZNAME:PDT
DTSTART:20220313T100000
END:DAYLIGHT
BEGIN:STANDARD
TZOFFSETFROM:-0700
TZOFFSETTO:-0800
TZNAME:PST
DTSTART:20221106T090000
END:STANDARD
END:VTIMEZONE
BEGIN:VEVENT
DTSTART;TZID=America/New_York:20210305T120000
DTEND;TZID=America/New_York:20210305T140000
DTSTAMP:20260424T010642
CREATED:20210224T211953Z
LAST-MODIFIED:20210225T075511Z
UID:1618-1614945600-1614952800@www.ottomanturkishstudiesassociation.org
SUMMARY:[NYU Kevorkian Center] Silsila: Yusuf al-Nabhani and Conservative Modernity in the Late Ottoman Period
DESCRIPTION:YUSUF AL-NABHANI AND CONSERVATIVE MODERNITY IN THE LATE OTTOMAN PERIOD \nSpeakers: Amal Ghazal (Doha Institute for Graduate Studies)\, Ahmad El Shamsy (University of Chicago)\, Stephennie Mulder (UT Austin)\, Finbarr Barry Flood (NYU)\n\nAbstract: In recent years the impact that Sunni reform movements had on the nineteenth-century Islamic world has attracted increasing attention. On the one hand\, the austere reform movement popularly known as Wahhabism gained influence in the Arabian peninsula. On the other\, an influential group of Salafi reformers based in Cairo made use of print media to communicate their idea of reform to a global community of Muslims. Both groups sought to regulate the role of mediation and the materiality of devotional practices in Islam.\nThe reaction to both sets of reformers on the part of those Muslim scholars and thinkers who espoused the principle of taqlid\, the need to follow established convention and tradition\, has attracted far less attention. Many such thinkers were also sufis who promoted and supported material forms of devotional practice\, including shrine visitation and respect for relics. Often dismissed as conservatives at odds with modernization (if not modernity)\, in fact these traditionalists often negotiated a de facto middle ground between the status quo and radical reform. \nThis panel considers the life and thought of one of these conservative thinkers\, Yusuf al-Nabhani (d. 1849-1932). Born in Palestine\, al-Nabhani was a Sunni scholar and sufi who promoted devotion to the Prophet Muhammad. A passionate supporter of the Ottoman caliphate\, a scholar and judge\, al-Nabhani was a fierce opponent of the reformist trends that sought to shape the world that he inhabited. The panel seeks to acknowledge the role that visions of ‘conservative modernity’ such as al-Nabhani’s played in the intellectual and religious life of late Ottoman Palestine and Syria\, and the impact that they had in regions far beyond\, from Anatolia and Arabia to East and North Africa. \nZoom Registration here.
URL:https://www.ottomanturkishstudiesassociation.org/event/kevorkian-center-silsila/
END:VEVENT
BEGIN:VEVENT
DTSTART;TZID=America/Los_Angeles:20210304T160000
DTEND;TZID=America/Los_Angeles:20210304T173000
DTSTAMP:20260424T010642
CREATED:20210228T193709Z
LAST-MODIFIED:20210228T193709Z
UID:1806-1614873600-1614879000@www.ottomanturkishstudiesassociation.org
SUMMARY:[Center for Middle East Studies - University of California\, Santa Barbra] Spiritual Subjects: Central Asian Pilgrims and the Ottoman Hajj at the End of Empire
DESCRIPTION:At the turn of the twentieth century\, thousands of Central Asians made the annual pilgrimage to Mecca. Traveling long distances\, many lived for extended periods in Ottoman cities dotting the routes\, effectively blurring the lines between pilgrims and migrants\, and the legal boundary between Ottomans and foreigners. As the Ottoman Empire sought to promote a universal Islamic caliphate\, while also more narrowly defining subjecthood and limiting extraterritorial rights among foreigners\, Central Asian pilgrims tested each of these projects and became the sultan’s spiritual subjects. \nLâle Can’s Spiritual Subjects examines the paradoxes of nationality reform and pan-Islamic politics in Ottoman history. By tracing the journeys of ordinary people and their encounters with Ottoman state and society\, Dr. Can unravels how imperial belonging was shaped through Islamic networks and legal practices. At the crossroads of hajj and the changing international legal order\, a complex system emerged in which it was possible by law for Muslims to be both foreigners and subjects of the sultan-caliph. This panoramic story informs broader global developments during the steamship era\, and has important implications for how we understand subjecthood in the last Muslim empire as well as the legacy of religion in the Turkish Republic. \nZoom Meeting Registration here. Event post here.
URL:https://www.ottomanturkishstudiesassociation.org/event/center-for-middle-east-studies-university-of-california-santa-barbra-spiritual-subjects-central-asian-pilgrims-and-the-ottoman-hajj-at-the-end-of-empire/
END:VEVENT
BEGIN:VEVENT
DTSTART;TZID=America/New_York:20210304T120000
DTEND;TZID=America/New_York:20210304T140000
DTSTAMP:20260424T010642
CREATED:20210303T184406Z
LAST-MODIFIED:20210303T184406Z
UID:1821-1614859200-1614866400@www.ottomanturkishstudiesassociation.org
SUMMARY:[Duke Middle East Studies Center] Book Talk: Landed Internationals with Burak Erdim | special guest Sibel Zandi-Sayek (respondent)
DESCRIPTION:Burak Erdim is an associate professor of architectural history and design at North Carolina State University. He teaches studios and courses on the global history of architecture and urbanism from the mid-19th Century to the present. Landed Internationals provides a refreshing perspective on the aims of mid-century architectural education and examines the operations of housing and planning networks through the case study of the establishment of the Middle East Technical University in Ankara\, Turkey. Erdim examines a series of legitimacy battles among bureaucrats\, academics\, and other professionals in multiple theatres across the political geography of the Cold War in order to resituate this comprehensive project within the international context of its production. He identifies nationhood and training and education among the key tokens that held together an otherwise contentious group of agents and agencies that he refers to as the technical assistance machinery. \nZoom Meeting Registration here.
URL:https://www.ottomanturkishstudiesassociation.org/event/duke-middle-east-studies-center-book-talk-landed-internationals-with-burak-erdim-special-guest-sibel-zandi-sayek-respondent/
END:VEVENT
BEGIN:VEVENT
DTSTART;TZID=America/Los_Angeles:20210304T113000
DTEND;TZID=America/Los_Angeles:20210304T123000
DTSTAMP:20260424T010642
CREATED:20210225T081054Z
LAST-MODIFIED:20210226T233840Z
UID:1636-1614857400-1614861000@www.ottomanturkishstudiesassociation.org
SUMMARY:[Stanford Program on Turkey] The university and authoritarian resilience in Turkey with Ayça Alemdaroğlu
DESCRIPTION:Ayça Alemdaroğlu\, Associate Director of the Program on Turkey and Research Scholar at the Center on Democracy\, Development and the Rule of Law at Stanford University.\n\n\n\n\n\n\nIncreasing access to higher education is often seen as a threat to authoritarian regimes. Accordingly\, authoritarian rulers would limit access to avoid the spread of anti-regime sentiments. Turkey suggests an interesting case. The consolidation of single party-rule overlapped with an impressive expansion of higher education\, by 170 percent\, from 76 in 2002 to 206 in 2020. This paper examines these two trends in connection with each other by focusing on universities’ role as infrastructural mechanisms for both democratic culture and state coercion.\n\n\n\n\n\nAbout the Speaker:  Ayça Alemdaroğlu is the Associate Director of the Program on Turkey and Research Scholar at the Center on Democracy\, Development and the Rule of Law at Stanford University. She is a political sociologist\, focusing on social and political inequality and change in Turkey and the Middle East. \nAyça’s recent work examines youth politics\, and authoritarianism. In “Governing youth in times of dissent: Essay competitions\, politics of history and affective pedagogies” (forthcoming in Turkish Studies)\, she  examines the politics of history and emotional tactics the Justice and Development Party (AKP) uses in its effort to control\, administer and recruit youth. In this work\, she argues that the resilience of the AKP regime lies not only in the benefits the party has provided to previously disadvantaged groups and its coercive methods towards dissent\, but also lies in the party’s articulation of political differences and its mobilization of emotions through intermediary channels between the party and the people. In “The AKP’s Problem with Youth”\, Ayça examines the significance of youth for the AKP and the politics of its tremendous expansion of religious education in Turkey. In “Dialectics of Reform and Repression: Unpacking Turkey’s Authoritarian ‘Turn’”\, she analyzes the dynamics and dialectics of reform and repression in the last two decades. Instead of reading contemporary Turkey as a case of relapse from reform into repression\, as many commentators do\, the article shows that reform and repression have been concomitant and complementary modes of the AKP governments. \nShe received her BSc. degree in political science and sociology from the Middle East Technical University\, her MA in political science from Bilkent University\, and her PhD in sociology from University of Cambridge. \nOnline\, via Zoom: REGISTER
URL:https://www.ottomanturkishstudiesassociation.org/event/stanford-center-on-democracy-development-and-the-rule-of-law-the-university-and-authoritarian-resilience-in-turkey/
END:VEVENT
BEGIN:VEVENT
DTSTART;TZID=America/Los_Angeles:20210301T093000
DTEND;TZID=America/Los_Angeles:20210301T113000
DTSTAMP:20260424T010642
CREATED:20210228T193357Z
LAST-MODIFIED:20210228T193357Z
UID:1804-1614591000-1614598200@www.ottomanturkishstudiesassociation.org
SUMMARY:[The Social Democrat Hınçak Party's Istanbul Student Union and Journal\, Gaydz (1911-1914)] in the July 2020 issue of Toplumsal Tarih [Social History]
DESCRIPTION:Dr. Yaşar Tolga Cora\, a professor of History at Boğaziçi University. Tolga Hoca received his PhD from the University of Chicago’s Department of Near Eastern Languages and Civilizations in 2016. Dr. Cora will present a talk titled “Gaydz: An Example from the Armenian Socialist Press in the Second Constitutional Era” based in part on his recently published article “Sosyal Demokrat Hınçak Partisi’nin İstanbul Öğrenci Birliği ve Dergisi Gaydz” This event will be held in Turkish. \nZoom Meeting Registration here.
URL:https://www.ottomanturkishstudiesassociation.org/event/the-social-democrat-hincak-partys-istanbul-student-union-and-journal-gaydz-1911-1914-in-the-july-2020-issue-of-toplumsal-tarih-social-history/
END:VEVENT
BEGIN:VEVENT
DTSTART;TZID=America/New_York:20210226T140000
DTEND;TZID=America/New_York:20210226T153000
DTSTAMP:20260424T010642
CREATED:20210224T032243Z
LAST-MODIFIED:20210224T214016Z
UID:1582-1614348000-1614353400@www.ottomanturkishstudiesassociation.org
SUMMARY:[University of Texas at Austin] Turkish Literature in Translation Reading Group: A Long Day's Evening by Bilge Karasu
DESCRIPTION:Turkish Literature in Translation Reading Group: A Long Day’s Evening by Bilge Karasu \nwith translator Dr. Aron Aji. Meeting Via Zoom.
URL:https://www.ottomanturkishstudiesassociation.org/event/university-of-texas-at-austin-turkish-literature-in-translation-reading-group-a-long-days-evening-by-bilge-karasu/
END:VEVENT
BEGIN:VEVENT
DTSTART;TZID=America/Los_Angeles:20210226T100000
DTEND;TZID=America/Los_Angeles:20210226T170000
DTSTAMP:20260424T010642
CREATED:20210224T204853Z
LAST-MODIFIED:20210227T021516Z
UID:1601-1614333600-1614358800@www.ottomanturkishstudiesassociation.org
SUMMARY:[UC Berkeley Eastern Mediterranean Studies Initiative]  Polorization on Demand: Ethos/Bir Baskadar in Turkey and the US
DESCRIPTION:Panel Discussion  \nDr. Melis Behlil\, Kadir Has University \nDr. Esin Paça Cengiz\, Kadir Has University \nDr\, Ekif Akçali\, Kadir Has University \nModerators: Dr. Deniz Goktūrk\, UC Berkeley \nDr. Christine Philiou\, UC Berkeley \nRespondent: Dr. Minoo Moallem\, UC Berkeley
URL:https://www.ottomanturkishstudiesassociation.org/event/the-center-for-middle-east-studies-uc-berkeley-polorization-on-demand-ethos-bir-baskadar-in-turkey-and-the-us/
END:VEVENT
END:VCALENDAR